BEGIN:VCALENDAR
PRODID:-//Stichting DE LANGE//NONSGML v1.0//EN
VERSION:2.0
CALSCALE:GREGORIAN
METHOD:PUBLISH
X-WR-CALNAME:Stichting DE LANGE
X-ORIGINAL-URL:http://www.stichtingdelange.nl
X-WR-CALDESC:Events for Stichting DE LANGE
BEGIN:VEVENT
DTSTART:20111027
DTEND:20111028
DTSTAMP:20260420T153219
CREATED:20110920T195901
LAST-MODIFIED:20111001T134621
UID:427@http://www.stichtingdelange.nl
SUMMARY:Aeolus cellokwartet, S. de Lange jr. Nocturne & Romanze
DESCRIPTION:Het Aeolus cellokwartet speelt een Hollands/Frans programma met werken van Petit,    [caption id="attachment_1003" align="alignright" width="300" caption="Aeolus Cellokwartet, foto Sjaak Ramakers"][/caption]    Koetsier, De Lange en Tansman.    [caption id="attachment_804" align="alignright" width="207" caption="uitgave NMI 2008"][/caption]    Van S. de Lange jr. klinkt zijn Nocturne &amp; Romanze, een origineel werk voor 4 celli, uitgegeven in 2008 door het Nederlands Muziek Instituut.    Voor meer info: cellokwartet
LOCATION:Bethaniëstraat 4, &#039;s Hertogenbosch, Netherlands
URL:http://www.stichtingdelange.nl/?p=427
END:VEVENT
END:VCALENDAR