BEGIN:VCALENDAR
PRODID:-//Stichting DE LANGE//NONSGML v1.0//EN
VERSION:2.0
CALSCALE:GREGORIAN
METHOD:PUBLISH
X-WR-CALNAME:Stichting DE LANGE
X-ORIGINAL-URL:http://www.stichtingdelange.nl
X-WR-CALDESC:Events for Stichting DE LANGE
BEGIN:VEVENT
DTSTART:
DTEND:
DTSTAMP:20260420T140122
CREATED:20110828T151619
LAST-MODIFIED:20111001T153453
UID:186@http://www.stichtingdelange.nl
SUMMARY:Cd's van de Stichting bestellen
DESCRIPTION:Hieronder vindt u een (voorlopig) overzicht van opnames van composities van  Samuel en Daniël de Lange die zijn verschenen op cd of lp.
LOCATION:
URL:http://www.stichtingdelange.nl/?p=186
END:VEVENT
END:VCALENDAR